BEGIN:VCALENDAR
VERSION:2.0
PRODID:-//hacksw/handcal//NONSGML v1.0//EN
BEGIN:VEVENT
SUMMARY:Dimanche 19 avril : Grand Prix cycliste feminin de Chambery le Vieux
UID:a1990372-9493-4b57-80d8-23dc6ace6e04
DTSTART:20260418T220000Z
DTEND:20260419T220000Z
LOCATION:Localisation   
CATEGORIES:Sportif
STATUS:
DESCRIPTION:<p>26eme edition. Gratuit de 13H30 a 16H30. Podium 13H30
 a 17H30.</p>
 
 <p>1ere manche de la Coupe de France FDJ UNITED femmes
 pro.</p>
 
 <p>Plateau d'equipes cyclistes francaises et
 europeennes.</p>
 
 <p>Boucles entre Voglans, Sonnaz et Chambery le
 Vieux.</p>
 
 <p><strong>Infos :</strong> <a
 href="https://www.facebook.com/GrandPrixFeminindeChambery/"
 target="_blank" rel="noreferrer
 noopener">https://www.facebook.com/GrandPrixFeminindeChambery/</a></p>
URL;VALUE=URI:https://www.cyclosbisserains.fr/evenements/2026/04/19/dimanche-19-avril-grand-prix-cycliste-feminin-de-chambery-le-vieux-2436750
END:VEVENT
END:VCALENDAR
