BEGIN:VCALENDAR
VERSION:2.0
PRODID:-//hacksw/handcal//NONSGML v1.0//EN
BEGIN:VEVENT
SUMMARY:Dimanche 26 avril : Randonnee de la Mandallaz
UID:48e2ae6d-4740-440a-a909-96ab8d9bc268
DTSTART:20260425T220000Z
DTEND:20260426T220000Z
LOCATION:Localisation   
CATEGORIES:Sportif
STATUS:
DESCRIPTION:<p>Organisation Cyclo Club de la Mandallaz.<br>
 Route -
 BRM 200 km - VTT - Gravel et Marche.<br>
 <strong>Accueil de 6H30 a 10
 H salle d'animation rurale de Sillingy</strong><br>
 Licencies FFCT :
 11 euros. Autres 14 euros. Enfants gratuit<br>
 Ravitaillements,
 repas, tombola. </p>
 
 <p><strong>>>> Infos : <a
 href="http://cycloclubmandallaz.fr" target="_blank" rel="noreferrer
 noopener"><u>cycloclubmandallaz.fr</u></a> ou Martine au 06 99 08 43
 95.</strong></p>
URL;VALUE=URI:https://www.cyclosbisserains.fr/evenements/2026/04/26/dimanche-26-avril-randonnee-de-la-mandallaz-2440645
END:VEVENT
END:VCALENDAR
