BEGIN:VCALENDAR
VERSION:2.0
PRODID:-//hacksw/handcal//NONSGML v1.0//EN
BEGIN:VEVENT
SUMMARY:Vendredi 8 mai : Randonnee la Savoyarde a Montmelian
UID:036665a8-f8a0-4c2b-ab7b-2f52dafb0302
DTSTART:20260507T220000Z
DTEND:20260508T220000Z
LOCATION:Localisation   
CATEGORIES:Sportif
STATUS:
DESCRIPTION:<p>Organisation Entente Cyclos
 Montmelian.<br>
 <strong>Accueil et inscriptions : espace Francois
 Mitterand de 7H a 10H a Montmelian.</strong><br>
 4 parcours ROUTE
 :<br>
 - 42 km / 390 m D+<br>
 - 68 km / 700 m D+<br>
 - 85 km / 1010 m
 D+<br>
 - 100 km / 1300 m D+<br>
 Ravitaillements et repas a
 l'arrivee.<br>
 Licencies : 11 euros / non licencies 14
 euros <br>
 Gratuit moins de 18 ans.</p>
URL;VALUE=URI:https://www.cyclosbisserains.fr/evenements/2026/05/08/vendredi-8-mai-randonnee-la-savoyarde-a-montmelian-2362852
END:VEVENT
END:VCALENDAR
